BEGIN:VCALENDAR
VERSION:2.0
PRODID:-//Nepali Calendar//EN
BEGIN:VEVENT
UID:e5a28f5d32ccffbcb5e1d4a204ee4959@nepalicalendar.com
DTSTAMP:20260422T105820Z
DTSTART;VALUE=DATE:20241210
DTEND;VALUE=DATE:20241211
SUMMARY:अन्तर्राष्ट्रिय मानव अधिकार दिवस
DESCRIPTION:अन्तर्राष्ट्रिय मानव अधिकार दिवस
END:VEVENT
END:VCALENDAR