BEGIN:VCALENDAR
VERSION:2.0
PRODID:-//Nepali Calendar//EN
BEGIN:VEVENT
UID:e4f7d0deb866f1398a31707c7eec1d0a@nepalicalendar.com
DTSTAMP:20260422T141040Z
DTSTART;VALUE=DATE:20241014
DTEND;VALUE=DATE:20241015
SUMMARY:दशैं विदा
DESCRIPTION:दशैं विदा
END:VEVENT
END:VCALENDAR