BEGIN:VCALENDAR
VERSION:2.0
PRODID:-//Nepali Calendar//EN
BEGIN:VEVENT
UID:d6052ae6910f3528e6a9a92ae04cb6fe@nepalicalendar.com
DTSTAMP:20260421T231534Z
DTSTART;VALUE=DATE:20250706
DTEND;VALUE=DATE:20250707
SUMMARY:हरिशयनी एकादशी व्रत (तुलसी रोप्ने)
DESCRIPTION:हरिशयनी एकादशी व्रत (तुलसी रोप्ने)
END:VEVENT
END:VCALENDAR