BEGIN:VCALENDAR
VERSION:2.0
PRODID:-//Nepali Calendar//EN
BEGIN:VEVENT
UID:25269c22c39564dc383f2ee13384a1aa@nepalicalendar.com
DTSTAMP:20260422T124036Z
DTSTART;VALUE=DATE:20241113
DTEND;VALUE=DATE:20241114
SUMMARY:प्रदोष व्रत
DESCRIPTION:प्रदोष व्रत
END:VEVENT
END:VCALENDAR