BEGIN:VCALENDAR
VERSION:2.0
PRODID:-//Nepali Calendar//EN
BEGIN:VEVENT
UID:d9ebfe4665c59697a52c26db625dfea3@nepalicalendar.com
DTSTAMP:20260422T110112Z
DTSTART;VALUE=DATE:20241209
DTEND;VALUE=DATE:20241210
SUMMARY:अन्तर्राष्ट्रिय भ्रष्टाचार विरुद्ध दिवस
DESCRIPTION:अन्तर्राष्ट्रिय भ्रष्टाचार विरुद्ध दिवस
END:VEVENT
END:VCALENDAR