BEGIN:VCALENDAR
VERSION:2.0
PRODID:-//Nepali Calendar//EN
BEGIN:VEVENT
UID:38e34a40b4583dbc941d9dfb69d4e34f@nepalicalendar.com
DTSTAMP:20260422T123933Z
DTSTART;VALUE=DATE:20241112
DTEND;VALUE=DATE:20241113
SUMMARY:World Pneumonia Day
DESCRIPTION:World Pneumonia Day
END:VEVENT
END:VCALENDAR