BEGIN:VCALENDAR
VERSION:2.0
PRODID:-//Nepali Calendar//EN
BEGIN:VEVENT
UID:88f7fcce9c931f0dfe81f8e9d816e26a@nepalicalendar.com
DTSTAMP:20260422T123842Z
DTSTART;VALUE=DATE:20241112
DTEND;VALUE=DATE:20241113
SUMMARY:विश्व निमोनिया दिवस
DESCRIPTION:विश्व निमोनिया दिवस
END:VEVENT
END:VCALENDAR