BEGIN:VCALENDAR
VERSION:2.0
PRODID:-//Nepali Calendar//EN
BEGIN:VEVENT
UID:e323002c7b939399c4ccf110846b8b7c@nepalicalendar.com
DTSTAMP:20260422T123807Z
DTSTART;VALUE=DATE:20241112
DTEND;VALUE=DATE:20241113
SUMMARY:हरिबोधिनी एकादशी व्रत (तुलसी बिवाह)
DESCRIPTION:हरिबोधिनी एकादशी व्रत (तुलसी बिवाह)
END:VEVENT
END:VCALENDAR