BEGIN:VCALENDAR
VERSION:2.0
PRODID:-//Nepali Calendar//EN
BEGIN:VEVENT
UID:692283b3dd5adf27177c7a9fc713b9d9@nepalicalendar.com
DTSTAMP:20260422T140954Z
DTSTART;VALUE=DATE:20241013
DTEND;VALUE=DATE:20241014
SUMMARY:अन्तर्राष्ट्रिय प्रकोप जोखिम न्यूनीकरण दिवस
DESCRIPTION:अन्तर्राष्ट्रिय प्रकोप जोखिम न्यूनीकरण दिवस
END:VEVENT
END:VCALENDAR