BEGIN:VCALENDAR
VERSION:2.0
PRODID:-//Nepali Calendar//EN
BEGIN:VEVENT
UID:241dbe7caed576cc7ca5f4b4fa25cd19@nepalicalendar.com
DTSTAMP:20260422T140805Z
DTSTART;VALUE=DATE:20241013
DTEND;VALUE=DATE:20241014
SUMMARY:पापांकुशा एकादशी व्रत
DESCRIPTION:पापांकुशा एकादशी व्रत
END:VEVENT
END:VCALENDAR