BEGIN:VCALENDAR
VERSION:2.0
PRODID:-//Nepali Calendar//EN
BEGIN:VEVENT
UID:2f147dd97d7782cd806e77fced763604@nepalicalendar.com
DTSTAMP:20260422T105703Z
DTSTART;VALUE=DATE:20241208
DTEND;VALUE=DATE:20241209
SUMMARY:अन्तर्राष्ट्रिय मर्यादित महिनावारी दिवस
DESCRIPTION:अन्तर्राष्ट्रिय मर्यादित महिनावारी दिवस
END:VEVENT
END:VCALENDAR