BEGIN:VCALENDAR
VERSION:2.0
PRODID:-//Nepali Calendar//EN
BEGIN:VEVENT
UID:2e0fc66a7c0f95b9007137380b503e0f@nepalicalendar.com
DTSTAMP:20260422T105831Z
DTSTART;VALUE=DATE:20241208
DTEND;VALUE=DATE:20241209
SUMMARY:रविसप्तमी व्रत
DESCRIPTION:रविसप्तमी व्रत
END:VEVENT
END:VCALENDAR