BEGIN:VCALENDAR
VERSION:2.0
PRODID:-//Nepali Calendar//EN
BEGIN:VEVENT
UID:30c7ec9c386e43e2b2a8930a3effb510@nepalicalendar.com
DTSTAMP:20260421T231631Z
DTSTART;VALUE=DATE:20250705
DTEND;VALUE=DATE:20250706
SUMMARY:अन्तर्राष्ट्रिय सहकारी दिवस
DESCRIPTION:अन्तर्राष्ट्रिय सहकारी दिवस
END:VEVENT
END:VCALENDAR