BEGIN:VCALENDAR
VERSION:2.0
PRODID:-//Nepali Calendar//EN
BEGIN:VEVENT
UID:76b849db05d3bc331641296f28c464b8@nepalicalendar.com
DTSTAMP:20260422T105948Z
DTSTART;VALUE=DATE:20241207
DTEND;VALUE=DATE:20241208
SUMMARY:अन्तर्राष्ट्रिय नागरिक उड्डयन दिवस
DESCRIPTION:अन्तर्राष्ट्रिय नागरिक उड्डयन दिवस
END:VEVENT
END:VCALENDAR