BEGIN:VCALENDAR
VERSION:2.0
PRODID:-//Nepali Calendar//EN
BEGIN:VEVENT
UID:be17edfa2780dde012c78a0754147300@nepalicalendar.com
DTSTAMP:20260422T140350Z
DTSTART;VALUE=DATE:20241012
DTEND;VALUE=DATE:20241013
SUMMARY:देवी विसर्जन
DESCRIPTION:देवी विसर्जन
END:VEVENT
END:VCALENDAR