BEGIN:VCALENDAR
VERSION:2.0
PRODID:-//Nepali Calendar//EN
BEGIN:VEVENT
UID:280bcda7b2c383feb1edccb00c3edb4f@nepalicalendar.com
DTSTAMP:20260422T140616Z
DTSTART;VALUE=DATE:20241012
DTEND;VALUE=DATE:20241013
SUMMARY:विजया दशमी
DESCRIPTION:विजया दशमी
END:VEVENT
END:VCALENDAR