BEGIN:VCALENDAR
VERSION:2.0
PRODID:-//Nepali Calendar//EN
BEGIN:VEVENT
UID:c08e226acbce7f66dfec6c55a665405d@nepalicalendar.com
DTSTAMP:20260422T105524Z
DTSTART;VALUE=DATE:20241206
DTEND;VALUE=DATE:20241207
SUMMARY:षडानन्द जयन्ती
DESCRIPTION:षडानन्द जयन्ती
END:VEVENT
END:VCALENDAR