BEGIN:VCALENDAR
VERSION:2.0
PRODID:-//Nepali Calendar//EN
BEGIN:VEVENT
UID:273a2edd9e795388e8cdd72ff4de9486@nepalicalendar.com
DTSTAMP:20260422T105709Z
DTSTART;VALUE=DATE:20241206
DTEND;VALUE=DATE:20241207
SUMMARY:विवाह पञ्चमी
DESCRIPTION:विवाह पञ्चमी
END:VEVENT
END:VCALENDAR