BEGIN:VCALENDAR
VERSION:2.0
PRODID:-//Nepali Calendar//EN
BEGIN:VEVENT
UID:df34893ba33a86b8a953aed093d213fa@nepalicalendar.com
DTSTAMP:20260422T123954Z
DTSTART;VALUE=DATE:20241110
DTEND;VALUE=DATE:20241111
SUMMARY:शान्ति र विकासको लागि विश्व विज्ञान दिवस
DESCRIPTION:शान्ति र विकासको लागि विश्व विज्ञान दिवस
END:VEVENT
END:VCALENDAR