BEGIN:VCALENDAR
VERSION:2.0
PRODID:-//Nepali Calendar//EN
BEGIN:VEVENT
UID:d6c7b1907442a10a660e8ef84a2feba8@nepalicalendar.com
DTSTAMP:20260422T123255Z
DTSTART;VALUE=DATE:20241110
DTEND;VALUE=DATE:20241111
SUMMARY:महागुरु फाल्गुनन्द जयन्ती (किराँत धर्मावलम्बीहरूलाई मात्र)
DESCRIPTION:महागुरु फाल्गुनन्द जयन्ती (किराँत धर्मावलम्बीहरूलाई मात्र)
END:VEVENT
END:VCALENDAR