BEGIN:VCALENDAR
VERSION:2.0
PRODID:-//Nepali Calendar//EN
BEGIN:VEVENT
UID:462d99237df38b63fb285131332c5038@nepalicalendar.com
DTSTAMP:20260422T124036Z
DTSTART;VALUE=DATE:20241110
DTEND;VALUE=DATE:20241111
SUMMARY:कुष्मान्ड नवमी व्रत
DESCRIPTION:कुष्मान्ड नवमी व्रत
END:VEVENT
END:VCALENDAR