BEGIN:VCALENDAR
VERSION:2.0
PRODID:-//Nepali Calendar//EN
BEGIN:VEVENT
UID:fcb19dcf7547f81a9cb74bee7a2bb279@nepalicalendar.com
DTSTAMP:20260422T154920Z
DTSTART;VALUE=DATE:20241011
DTEND;VALUE=DATE:20241012
SUMMARY:गैर आवासीय नेपाली दिवस
DESCRIPTION:गैर आवासीय नेपाली दिवस
END:VEVENT
END:VCALENDAR