BEGIN:VCALENDAR
VERSION:2.0
PRODID:-//Nepali Calendar//EN
BEGIN:VEVENT
UID:ea34a471f697d9aa523e116c5066ee66@nepalicalendar.com
DTSTAMP:20260422T140934Z
DTSTART;VALUE=DATE:20241011
DTEND;VALUE=DATE:20241012
SUMMARY:महानवमी व्रत
DESCRIPTION:महानवमी व्रत
END:VEVENT
END:VCALENDAR