BEGIN:VCALENDAR
VERSION:2.0
PRODID:-//Nepali Calendar//EN
BEGIN:VEVENT
UID:633aa91f3ef88c851807f3979f4b4f67@nepalicalendar.com
DTSTAMP:20260422T140350Z
DTSTART;VALUE=DATE:20241011
DTEND;VALUE=DATE:20241012
SUMMARY:कालरात्रि
DESCRIPTION:कालरात्रि
END:VEVENT
END:VCALENDAR