BEGIN:VCALENDAR
VERSION:2.0
PRODID:-//Nepali Calendar//EN
BEGIN:VEVENT
UID:f8fc6f3ff432e3fd686ffe6124bab6ba@nepalicalendar.com
DTSTAMP:20260422T140806Z
DTSTART;VALUE=DATE:20241011
DTEND;VALUE=DATE:20241012
SUMMARY:महाअष्टमी व्रत
DESCRIPTION:महाअष्टमी व्रत
END:VEVENT
END:VCALENDAR