BEGIN:VCALENDAR
VERSION:2.0
PRODID:-//Nepali Calendar//EN
BEGIN:VEVENT
UID:55fd3719d26f415f202659a077f17df8@nepalicalendar.com
DTSTAMP:20260422T123802Z
DTSTART;VALUE=DATE:20241109
DTEND;VALUE=DATE:20241110
SUMMARY:गोपाष्टमी
DESCRIPTION:गोपाष्टमी
END:VEVENT
END:VCALENDAR