BEGIN:VCALENDAR
VERSION:2.0
PRODID:-//Nepali Calendar//EN
BEGIN:VEVENT
UID:61a083d1e33d48f4457a1e6bcc4d557b@nepalicalendar.com
DTSTAMP:20260422T123637Z
DTSTART;VALUE=DATE:20241109
DTEND;VALUE=DATE:20241110
SUMMARY:विश्व स्वतन्त्रता दिवस
DESCRIPTION:विश्व स्वतन्त्रता दिवस
END:VEVENT
END:VCALENDAR