BEGIN:VCALENDAR
VERSION:2.0
PRODID:-//Nepali Calendar//EN
BEGIN:VEVENT
UID:5cde45cb5c38228828cc68fdced57504@nepalicalendar.com
DTSTAMP:20260422T105948Z
DTSTART;VALUE=DATE:20241205
DTEND;VALUE=DATE:20241206
SUMMARY:विश्व माटो दिवस
DESCRIPTION:विश्व माटो दिवस
END:VEVENT
END:VCALENDAR