BEGIN:VCALENDAR
VERSION:2.0
PRODID:-//Nepali Calendar//EN
BEGIN:VEVENT
UID:776b820accd4b5204b2386a988155b63@nepalicalendar.com
DTSTAMP:20260422T105841Z
DTSTART;VALUE=DATE:20241205
DTEND;VALUE=DATE:20241206
SUMMARY:अन्तर्राष्ट्रिय स्वयंसेवक दिवस
DESCRIPTION:अन्तर्राष्ट्रिय स्वयंसेवक दिवस
END:VEVENT
END:VCALENDAR