BEGIN:VCALENDAR
VERSION:2.0
PRODID:-//Nepali Calendar//EN
BEGIN:VEVENT
UID:040755c32df9a8815db332eec331fca1@nepalicalendar.com
DTSTAMP:20260422T140907Z
DTSTART;VALUE=DATE:20241010
DTEND;VALUE=DATE:20241011
SUMMARY:विश्व मानसिक स्वास्थ्य दिवस
DESCRIPTION:विश्व मानसिक स्वास्थ्य दिवस
END:VEVENT
END:VCALENDAR