BEGIN:VCALENDAR
VERSION:2.0
PRODID:-//Nepali Calendar//EN
BEGIN:VEVENT
UID:571498f81fd5fb5292dadbed1e184876@nepalicalendar.com
DTSTAMP:20260422T140457Z
DTSTART;VALUE=DATE:20241010
DTEND;VALUE=DATE:20241011
SUMMARY:विश्व दृष्टि दिवस
DESCRIPTION:विश्व दृष्टि दिवस
END:VEVENT
END:VCALENDAR