BEGIN:VCALENDAR
VERSION:2.0
PRODID:-//Nepali Calendar//EN
BEGIN:VEVENT
UID:6df47e024c3e8e0f1a84c7fbdc9f7fc9@nepalicalendar.com
DTSTAMP:20260421T231512Z
DTSTART;VALUE=DATE:20250702
DTEND;VALUE=DATE:20250703
SUMMARY:विश्व खेलकुद पत्रकार दिवस
DESCRIPTION:विश्व खेलकुद पत्रकार दिवस
END:VEVENT
END:VCALENDAR