BEGIN:VCALENDAR
VERSION:2.0
PRODID:-//Nepali Calendar//EN
BEGIN:VEVENT
UID:c11ef878047432447ed1af977c7039a2@nepalicalendar.com
DTSTAMP:20260422T140447Z
DTSTART;VALUE=DATE:20241010
DTEND;VALUE=DATE:20241011
SUMMARY:फूलपाती
DESCRIPTION:फूलपाती
END:VEVENT
END:VCALENDAR