BEGIN:VCALENDAR
VERSION:2.0
PRODID:-//Nepali Calendar//EN
BEGIN:VEVENT
UID:b85fb8133f51117a3d0e44624fa14fde@nepalicalendar.com
DTSTAMP:20260422T123336Z
DTSTART;VALUE=DATE:20241108
DTEND;VALUE=DATE:20241109
SUMMARY:विश्व रेडियोग्राफी दिवस
DESCRIPTION:विश्व रेडियोग्राफी दिवस
END:VEVENT
END:VCALENDAR