BEGIN:VCALENDAR
VERSION:2.0
PRODID:-//Nepali Calendar//EN
BEGIN:VEVENT
UID:fc716fad1f4f15522f98840b3015a985@nepalicalendar.com
DTSTAMP:20260422T140329Z
DTSTART;VALUE=DATE:20241009
DTEND;VALUE=DATE:20241010
SUMMARY:विश्व हुलाक दिवस
DESCRIPTION:विश्व हुलाक दिवस
END:VEVENT
END:VCALENDAR