BEGIN:VCALENDAR
VERSION:2.0
PRODID:-//Nepali Calendar//EN
BEGIN:VEVENT
UID:2a0fe1f6cad852e4cad602d8177ea463@nepalicalendar.com
DTSTAMP:20260422T123443Z
DTSTART;VALUE=DATE:20241107
DTEND;VALUE=DATE:20241108
SUMMARY:छठ पर्व
DESCRIPTION:छठ पर्व
END:VEVENT
END:VCALENDAR