BEGIN:VCALENDAR
VERSION:2.0
PRODID:-//Nepali Calendar//EN
BEGIN:VEVENT
UID:577a940d1eeee96dc119098024a09c05@nepalicalendar.com
DTSTAMP:20260422T110010Z
DTSTART;VALUE=DATE:20241203
DTEND;VALUE=DATE:20241204
SUMMARY:अन्तर्राष्ट्रिय अपाङ्ग दिवस (विशेष क्षमता भएका कर्मचारीलाई मात्र)
DESCRIPTION:अन्तर्राष्ट्रिय अपाङ्ग दिवस (विशेष क्षमता भएका कर्मचारीलाई मात्र)
END:VEVENT
END:VCALENDAR