BEGIN:VCALENDAR
VERSION:2.0
PRODID:-//Nepali Calendar//EN
BEGIN:VEVENT
UID:0ebe3b06befb66c9ac57e6d683672d1f@nepalicalendar.com
DTSTAMP:20260422T105336Z
DTSTART;VALUE=DATE:20241202
DTEND;VALUE=DATE:20241203
SUMMARY:गढीमाई मेला प्रारम्भ
DESCRIPTION:गढीमाई मेला प्रारम्भ
END:VEVENT
END:VCALENDAR