BEGIN:VCALENDAR
VERSION:2.0
PRODID:-//Nepali Calendar//EN
BEGIN:VEVENT
UID:68da160026638292a27be7a5b62afbb3@nepalicalendar.com
DTSTAMP:20260422T105337Z
DTSTART;VALUE=DATE:20241202
DTEND;VALUE=DATE:20241203
SUMMARY:अन्तर्राष्ट्रिय दासता उन्मूलन दिवस
DESCRIPTION:अन्तर्राष्ट्रिय दासता उन्मूलन दिवस
END:VEVENT
END:VCALENDAR