BEGIN:VCALENDAR
VERSION:2.0
PRODID:-//Nepali Calendar//EN
BEGIN:VEVENT
UID:370ca7720717d8344f8f1bd81be5e07b@nepalicalendar.com
DTSTAMP:20260422T123955Z
DTSTART;VALUE=DATE:20241105
DTEND;VALUE=DATE:20241106
SUMMARY:मंगलचौथी व्रत
DESCRIPTION:मंगलचौथी व्रत
END:VEVENT
END:VCALENDAR