BEGIN:VCALENDAR
VERSION:2.0
PRODID:-//Nepali Calendar//EN
BEGIN:VEVENT
UID:0b4f5e28a98445206ae8c959227e1467@nepalicalendar.com
DTSTAMP:20260422T140627Z
DTSTART;VALUE=DATE:20241005
DTEND;VALUE=DATE:20241006
SUMMARY:विश्व शिक्षक दिवस
DESCRIPTION:विश्व शिक्षक दिवस
END:VEVENT
END:VCALENDAR