BEGIN:VCALENDAR
VERSION:2.0
PRODID:-//Nepali Calendar//EN
BEGIN:VEVENT
UID:5b48ba158e678f78831bf47caf02429a@nepalicalendar.com
DTSTAMP:20260422T105518Z
DTSTART;VALUE=DATE:20241201
DTEND;VALUE=DATE:20241202
SUMMARY:विश्व एड्स दिवस
DESCRIPTION:विश्व एड्स दिवस
END:VEVENT
END:VCALENDAR