BEGIN:VCALENDAR
VERSION:2.0
PRODID:-//Nepali Calendar//EN
BEGIN:VEVENT
UID:5585a0abfff77377720c36ef522cf926@nepalicalendar.com
DTSTAMP:20260421T232101Z
DTSTART;VALUE=DATE:20250629
DTEND;VALUE=DATE:20250630
SUMMARY:राष्ट्रिय धान दिवस
DESCRIPTION:राष्ट्रिय धान दिवस
END:VEVENT
END:VCALENDAR