BEGIN:VCALENDAR
VERSION:2.0
PRODID:-//Nepali Calendar//EN
BEGIN:VEVENT
UID:4c547d60bc9ed512eb4e0d7f005d076c@nepalicalendar.com
DTSTAMP:20260422T010121Z
DTSTART;VALUE=DATE:20250515
DTEND;VALUE=DATE:20250516
SUMMARY:अन्तर्राष्ट्रिय परिवार दिवस
DESCRIPTION:अन्तर्राष्ट्रिय परिवार दिवस
END:VEVENT
END:VCALENDAR