BEGIN:VCALENDAR
VERSION:2.0
PRODID:-//Nepali Calendar//EN
BEGIN:VEVENT
UID:d1a9bb2e58f8b9037daf37f981a046cb@nepalicalendar.com
DTSTAMP:20260422T123414Z
DTSTART;VALUE=DATE:20241104
DTEND;VALUE=DATE:20241105
SUMMARY:तिहार बिदा
DESCRIPTION:तिहार बिदा
END:VEVENT
END:VCALENDAR