BEGIN:VCALENDAR
VERSION:2.0
PRODID:-//Nepali Calendar//EN
BEGIN:VEVENT
UID:fe94927b695b29d805f0ea6cd3c508ca@nepalicalendar.com
DTSTAMP:20260422T140426Z
DTSTART;VALUE=DATE:20241004
DTEND;VALUE=DATE:20241005
SUMMARY:विश्व मुस्कान दिवस
DESCRIPTION:विश्व मुस्कान दिवस
END:VEVENT
END:VCALENDAR