BEGIN:VCALENDAR
VERSION:2.0
PRODID:-//Nepali Calendar//EN
BEGIN:VEVENT
UID:2232bedb259fd4d4b9ba6404e9e18705@nepalicalendar.com
DTSTAMP:20260422T140738Z
DTSTART;VALUE=DATE:20241004
DTEND;VALUE=DATE:20241005
SUMMARY:विश्व पशु दिवस
DESCRIPTION:विश्व पशु दिवस
END:VEVENT
END:VCALENDAR