BEGIN:VCALENDAR
VERSION:2.0
PRODID:-//Nepali Calendar//EN
BEGIN:VEVENT
UID:c2cff9471fdb3ea81194f35e1b6101df@nepalicalendar.com
DTSTAMP:20260422T123307Z
DTSTART;VALUE=DATE:20241103
DTEND;VALUE=DATE:20241104
SUMMARY:किजा पूजा
DESCRIPTION:किजा पूजा
END:VEVENT
END:VCALENDAR