BEGIN:VCALENDAR
VERSION:2.0
PRODID:-//Nepali Calendar//EN
BEGIN:VEVENT
UID:80f00c5d2bdc4041031d7ecca82c55ac@nepalicalendar.com
DTSTAMP:20260422T105408Z
DTSTART;VALUE=DATE:20241130
DTEND;VALUE=DATE:20241201
SUMMARY:बाला चतुर्दशी व्रत (शतबीज छर्ने)
DESCRIPTION:बाला चतुर्दशी व्रत (शतबीज छर्ने)
END:VEVENT
END:VCALENDAR