BEGIN:VCALENDAR
VERSION:2.0
PRODID:-//Nepali Calendar//EN
BEGIN:VEVENT
UID:b2b379e83bb67a6ea4b5e8bce71aead9@nepalicalendar.com
DTSTAMP:20260422T123413Z
DTSTART;VALUE=DATE:20241103
DTEND;VALUE=DATE:20241104
SUMMARY:भाइटीका
DESCRIPTION:भाइटीका
END:VEVENT
END:VCALENDAR